BEGIN:VCALENDAR
VERSION:2.0
PRODID:LFV Website-Kit
METHOD:PUBLISH
BEGIN:VEVENT
UID:lfv-2ff76410-0976-4d8e-9333-efc4dd7d0a7f
LOCATION:Florianstraße 1 85238 Petershausen
SUMMARY:MTA Ausbildung (8. Block)
DESCRIPTION:Theoretische Ausbildung für das MTA-Basismodul\n\nTermin Link: https://petershausen.feuerwehren.bayern/termine/mta-ausbildung-8-block/
URL:https://petershausen.feuerwehren.bayern/termine/mta-ausbildung-8-block/
CLASS:PRIVATE
DTSTART;TZID=Europe/Berlin:20260429T190000
DTEND;TZID=Europe/Berlin:20260429T200000
DTSTAMP:20260425T122307Z
END:VEVENT
END:VCALENDAR